BEGIN:VCALENDAR
VERSION:2.0
PRODID:-//ChamberMaster//Event Calendar 2.0//EN
METHOD:PUBLISH
X-PUBLISHED-TTL:P3D
REFRESH-INTERVAL:P3D
CALSCALE:GREGORIAN
BEGIN:VEVENT
DTSTART:20250109T180000Z
DTEND:20250109T190000Z
X-MICROSOFT-CDO-ALLDAYEVENT:FALSE
SUMMARY:Womens Network Membership Development Meeting
DESCRIPTION:The Membership Development Committee strengthens existing relationships with current members and welcomes and engages new members. Committee activities include hosting New Member Welcomes events\, greeting guests at monthly luncheons and reaching out to new members.
X-ALT-DESC;FMTTYPE=text/html:<span style="background:white\;"><span style="color:#333333\;"><span style="font-family:arial\,sans-serif\;"><span style="font-size:10.0pt\;">The Membership Development Committee strengthens existing relationships with current members and welcomes and engages&nbsp\;new members. Committee activities include hosting New Member Welcomes events\, greeting guests at monthly luncheons and reaching out to new members.</span></span></span></span>
LOCATION:The Walton Building 300 S. Providence Rd. Columbia\, MO 65205
UID:e.2790.9169
SEQUENCE:3
DTSTAMP:20260421T052333Z
URL:https://business.comochamber.com/events/details/womens-network-membership-development-meeting-01-09-2025-9169
END:VEVENT

END:VCALENDAR
