BEGIN:VCALENDAR
VERSION:2.0
PRODID:-//ChamberMaster//Event Calendar 2.0//EN
METHOD:PUBLISH
X-PUBLISHED-TTL:P3D
REFRESH-INTERVAL:P3D
CALSCALE:GREGORIAN
BEGIN:VEVENT
DTSTART:20240404T213000Z
DTEND:20240404T233000Z
X-MICROSOFT-CDO-ALLDAYEVENT:FALSE
SUMMARY:Women's Network Spring Mixer 2024
DESCRIPTION:Join Women's Network for our annual Spring Mixer! Your registration includes all provided food and sponsored beverages. You don't want to miss this networking opportunity!\n\n\n\nThis is a Women's Network members-only event\; if you are unsure of your membership status\, please contact Jade Poe\, Director of Women's Network. \n\n\n\nThank you to our sponsors: Location Sponsor: The Para Project\; Food Sponsor Addison's\; Beverage Sponsor Macadoodles\; Door Prize Sponsors MAAD Creative LLC\, The Missouri Symphony\, The Clip Joint Salon\, Maplewood Barn Community Theatre\, Hexagon Alley.
X-ALT-DESC;FMTTYPE=text/html:<span style="text-align: center\; font-family: verdana\; font-size: 14px\;">Join Women&#39\;s Network for our annual Spring Mixer! Your registration&nbsp\;includes all provided food and sponsored&nbsp\;beverages.&nbsp\;You&nbsp\;don&#39\;t want to miss this networking opportunity!</span><br style="text-align: center\;" />\n<br style="text-align: center\;" />\n<span style="text-align: center\;"><font face="verdana"><span style="font-size: 14px\;">This is a Women&#39\;s Network members-only event\; if you are unsure of your membership status\, please contact </span></font><a href="mailto:jade@columbiamochamber.com" style="font-family: verdana\; font-size: 14px\;">Jade Poe</a><font face="verdana"><span style="font-size: 14px\;">\, Director of Women&#39\;s Network.&nbsp\;</span></font><br />\n<br />\n<font face="verdana"><span style="font-size: 14px\;">Thank you to our sponsors: Location Sponsor: <strong>The Para Project</strong>\; Food Sponsor&nbsp\;</span></font><strong style="font-family: verdana\; font-size: 14px\;">Addison&#39\;s</strong><font face="verdana"><span style="font-size: 14px\;">\; Beverage Sponsor&nbsp\;</span></font><strong style="font-family: verdana\; font-size: 14px\;">Macadoodles</strong><font face="verdana"><span style="font-size: 14px\;">\;&nbsp\;Door Prize Sponsors</span></font><strong style="font-family: verdana\; font-size: 14px\;">&nbsp\;MAAD Creative LLC\, </strong><strong style="font-family: verdana\; font-size: 14px\;">The Missouri Symphony\, The Clip Joint Salon\, Maplewood Barn Community Theatre</strong><b style="font-family: verdana\; font-size: 14px\;">\, </b><font face="verdana"><span style="font-size: 14px\;"><b>Hexagon</b></span></font><b style="font-family: verdana\; font-size: 14px\;">&nbsp\;Alley.</b></span>
LOCATION:The Para Project 300 Portland St. Suite 140\, Columbia\, MO 65201
UID:e.2790.11156
SEQUENCE:3
DTSTAMP:20260421T223010Z
URL:https://business.comochamber.com/events/details/women-s-network-spring-mixer-2024-11156
END:VEVENT

END:VCALENDAR
