BEGIN:VCALENDAR
VERSION:2.0
PRODID:-//ChamberMaster//Event Calendar 2.0//EN
METHOD:PUBLISH
X-PUBLISHED-TTL:P3D
REFRESH-INTERVAL:P3D
CALSCALE:GREGORIAN
BEGIN:VEVENT
DTSTART:20240411T163000Z
DTEND:20240411T180000Z
X-MICROSOFT-CDO-ALLDAYEVENT:FALSE
SUMMARY:Women's Network Showcase April Luncheon 2024
DESCRIPTION:Presenting Sponsor:\n\nBurrell Behavioral Health\n\nTitle: Ask the Experts: Labor Shortages & Workforce Development \n\nFeaturing: Ashton Bodenstab\, Veterans United\; Kristyn Lyon\, University of Missouri\; Stacye Smith\, Shelter Insurance\; Penny Kuhns-Knarr\, Food Bank for Central & Northeast Missouri\n\n\n\nJoin the Women's Network as we host an informative luncheon supporting the Showcase CoMo/Job Fair event on April 11th. We will feature some of the most notable names in People Management in Columbia\, available to interactively answer your questions around trends they're seeing in the labor market\, thoughts on workforce development\, and strategies for professional growth for you or your employees.\n\n\n\nRegistration is $40 for members and $50 for guests until 5:00 p.m. on Friday\, April 5. \n\n\n\nWe hope to see you there!
X-ALT-DESC;FMTTYPE=text/html:<p style="text-align: center\;"><span style="font-size:14px\;"><span style="font-family:verdana\;">Presenting Sponsor:</span></span></p>\n\n<p style="text-align: center\;">Burrell Behavioral Health</p>\n\n<p style="text-align: center\;"><span style="font-size:14px\;"><span style="font-family:verdana\;"><strong>Title: Ask the Experts: Labor Shortages &amp\; Workforce Development&nbsp\;<br />\nFeaturing: Ashton Bodenstab\, Veterans United\; Kristyn Lyon\, University of Missouri\; Stacye Smith\, Shelter Insurance\; Penny Kuhns-Knarr\, Food Bank for Central &amp\; Northeast Missouri</strong></span></span><br />\n<br />\nJoin the Women&rsquo\;s Network as we host an informative luncheon supporting the Showcase CoMo/Job Fair event on April 11th. We will feature some of the most notable names in People Management in Columbia\, available to interactively answer your questions around trends they&rsquo\;re seeing in the labor market\, thoughts on workforce development\, and strategies for professional growth for you or your employees.<br />\n<br />\n<strong><span style="font-family: verdana\; font-size: 14px\; white-space: pre-wrap\; box-sizing: content-box\; inset: auto\; clear: none\; content: normal\; direction: inherit\; empty-cells: show\; font-variant-numeric: inherit\; font-stretch: inherit\; line-height: inherit\; margin: 0px\; max-height: none\; max-width: none\; min-height: initial\; min-width: initial\; opacity: 1\; outline-offset: 0px\; overflow: visible\; padding: 0px\; position: static\; resize: none\; table-layout: auto\; text-overflow: clip\; vertical-align: baseline\; visibility: inherit\; word-break: inherit\; overflow-wrap: inherit\; z-index: auto\; background-image: none\; background-position: initial\; background-size: initial\; background-repeat: initial\; background-attachment: initial\; background-origin: initial\; background-clip: initial\; border: none\; border-collapse: separate\; border-radius: 0px\; height: auto\; width: auto\; box-shadow: none\;">R</span></strong><span style="font-family: verdana\; font-size: 14px\; white-space: pre-wrap\; box-sizing: content-box\; font-weight: bolder\; bottom: auto\; clear: none\; content: normal\; direction: inherit\; empty-cells: show\; font-variant-numeric: inherit\; font-stretch: inherit\; left: auto\; line-height: inherit\; margin: 0px\; max-height: none\; max-width: none\; min-height: initial\; min-width: initial\; opacity: 1\; outline-offset: 0px\; overflow: visible\; padding: 0px\; position: static\; resize: none\; right: auto\; table-layout: auto\; text-overflow: clip\; top: auto\; vertical-align: baseline\; visibility: inherit\; word-break: inherit\; overflow-wrap: inherit\; z-index: auto\; background-image: none\; background-position: initial\; background-size: initial\; background-repeat: initial\; background-attachment: initial\; background-origin: initial\; background-clip: initial\; border: none\; border-collapse: separate\; border-radius: 0px\; height: auto\; width: auto\; box-shadow: none\;"><strong>eg</strong>istration is $40 for members and $50 for guests until 5:00&nbsp\;p.m. on Friday\, April 5.</span><span style="font-family: verdana\; font-size: 14px\; white-space: pre-wrap\;">&nbsp\;</span><br />\n<br />\n<span style="font-family: verdana\; font-size: 14px\; white-space: pre-wrap\;">We hope to see you there!</span></p>\n
LOCATION:Holiday Inn Executive Suites and Conference Center
UID:e.2790.11152
SEQUENCE:3
DTSTAMP:20260421T223355Z
URL:https://business.comochamber.com/events/details/women-s-network-showcase-april-luncheon-2024-11152
END:VEVENT

END:VCALENDAR
