BEGIN:VCALENDAR
VERSION:2.0
PRODID:-//ChamberMaster//Event Calendar 2.0//EN
METHOD:PUBLISH
X-PUBLISHED-TTL:P3D
REFRESH-INTERVAL:P3D
CALSCALE:GREGORIAN
BEGIN:VEVENT
DTSTART:20240401T130000Z
DTEND:20240501T220000Z
X-MICROSOFT-CDO-ALLDAYEVENT:FALSE
SUMMARY:Women's Network Roses for Mentors 2024
DESCRIPTION:**Sponsored by Denise Payne Real Estate**\n\n\n\nCelebrate ATHENA International Awards week by honoring a mentor in your life! Roses for Mentors are the perfect way to say thank you and show your mentor\, coworker\, or friend how grateful you are for their role in your life! Your rose will be hand delivered by the Women's Network Special Events Committee to your recipient with a personalized note from you. \n\n\n\nRoses can be delivered to businesses within 10 miles of Columbia. The deadline to order is April 30. \n\n \n\nAll profits benefit the Women's Network Mentoring Program\, where Women's Network members have the unique opportunity to build a mentor/mentee relationship within the organization and grow both personally and professionally.
X-ALT-DESC;FMTTYPE=text/html:<div style="text-align: center\;"><span style="font-family: verdana\; text-align: center\;">**Sponsored by Denise Payne Real Estate**</span></div>\n\n<div><br />\n<span style="font-family: verdana\; text-align: center\;">Celebrate ATHENA International Awards week by honoring a mentor in your life!&nbsp\;</span><font face="verdana" style="text-align: center\;">Roses for Mentors are the perfect way to say thank you and show your&nbsp\;mentor\, coworker\, or friend how grateful you are for their role in your life!&nbsp\;</font><span style="font-family:verdana\;">Your rose will be hand delivered by the Women&#39\;s Network Special Events Committee to your recipient&nbsp\;with a personalized note from you.</span><font face="verdana" style="text-align: center\;">&nbsp\;<br />\n<br />\nRoses can be delivered to businesses within 10 miles of Columbia. <strong>The deadline to order&nbsp\;is April 30.&nbsp\;</strong></font></div>\n\n<div style="text-align: center\;">&nbsp\;</div>\n\n<div><span style="font-family:verdana\;">All profits benefit the Women&#39\;s Network&nbsp\;<a href="http://womensnetworkcomo.com/committees">M</a><a href="https://womensnetworkcomo.com/leadership/" target="_blank">entoring Program</a>\, where Women&#39\;s Network members have the unique opportunity to build&nbsp\;a mentor/mentee relationship within the organization and grow both personally and professionally.</span></div>\n\n<div>\n<ul id="gform_fields_16">\n</ul>\n</div>\n
LOCATION:
UID:e.2790.11237
SEQUENCE:3
DTSTAMP:20260421T204712Z
URL:https://business.comochamber.com/events/details/women-s-network-roses-for-mentors-2024-11237
END:VEVENT

END:VCALENDAR
