BEGIN:VCALENDAR
VERSION:2.0
PRODID:-//ChamberMaster//Event Calendar 2.0//EN
METHOD:PUBLISH
X-PUBLISHED-TTL:P3D
REFRESH-INTERVAL:P3D
CALSCALE:GREGORIAN
BEGIN:VEVENT
DTSTART:20210121T173000Z
DTEND:20210121T190000Z
X-MICROSOFT-CDO-ALLDAYEVENT:FALSE
SUMMARY:Women's Network Professional Development Luncheon: Networking in the New Normal
DESCRIPTION:Join us for our networking event and first hybrid monthly program! We'll have lunch and provide guided activities for networking with other attendees\, both virtually and in person. This is a great event to attend if you're looking to meet new people in the business community! \n\n\n\nIn order to prevent the spread of COVID-19\, in-person seating capacity will be limited and pre-registration is required. All attendees must be on the guest list in order to be admitted. \n\n\n\nAs part of a new Chamber initiative to support our small businesses\, all virtual attendees will receive a $10 gift card to a local restaurant with their registration. Please register by January 15 if you would like to receive your gift card before the event day.
X-ALT-DESC;FMTTYPE=text/html:<span style="font-size:14px\;"><span style="font-family:verdana\;">Join us for our networking event and first hybrid monthly program! We&#39\;ll have lunch and provide guided activities for networking with other attendees\, both virtually and in person. This is a great event to attend if you&#39\;re looking to meet new people in the business community!&nbsp\;<br />\n<br />\nIn order to prevent the spread of COVID-19\,<strong>&nbsp\;in-person seating capacity will be limited and</strong> <strong>pre-registration is required.</strong> All attendees must be on the guest list in order to be admitted.&nbsp\;</span></span><br />\n<br style="font-family: verdana\; font-size: 14px\;" />\n<span style="font-family: verdana\; font-size: 14px\;">As part of a new Chamber initiative to support our small businesses\,&nbsp\;</span><strong style="font-family: verdana\; font-size: 14px\;">all virtual attendees will receive a $10 gift card to a local restaurant with their registration.</strong><span style="font-family: verdana\; font-size: 14px\;">&nbsp\;Please register by January 15 if you would like to receive your gift card before the event day.&nbsp\;</span>
LOCATION:Hampton Inn at University of Missouri or online via Zoom 1225 Fellows Place Columbia\, MO 65201 Virtual attendees will receive a Zoom link by email two days prior to the event.
UID:e.2790.7333
SEQUENCE:3
DTSTAMP:20260424T164630Z
URL:https://business.comochamber.com/events/details/women-s-network-professional-development-luncheon-networking-in-the-new-normal-7333
END:VEVENT

END:VCALENDAR
