BEGIN:VCALENDAR
VERSION:2.0
PRODID:-//ChamberMaster//Event Calendar 2.0//EN
METHOD:PUBLISH
X-PUBLISHED-TTL:P3D
REFRESH-INTERVAL:P3D
CALSCALE:GREGORIAN
BEGIN:VEVENT
DTSTART:20240523T230000Z
DTEND:20240524T010000Z
X-MICROSOFT-CDO-ALLDAYEVENT:FALSE
SUMMARY:Women's Network 2024 ATHENA International Awards
DESCRIPTION:Presented by:\n\nJoe Machens Toyota \n\nGold Sponsor:\n\nDave Griggs Flooring America\n\n\n\n \n\nATHENA International awards are given annually to business leaders in our community who exemplify the ATHENA spirit - excellence\, creativity and initiative in their business or profession\, and a commitment to helping women reach their full leadership potential.\n\n\n\nOn May 23\, Women's Network will present the 2024 ATHENA Young Professional and ATHENA Leadership Award to two deserving local recipients.    \n\n\n\nThe registration deadline is Friday\, May 17. For questions or additional information\, please contact Director of Women's Network Jade Poe. \n\n*Please submit any dietary restrictions prior to May 10 or we may not be able to accommodate you.*\n\n\n\nThe ATHENA Leadership Awards are presented to members of the community who are honored for professional excellence\, community service and for actively assisting women in their attainment of professional excellence and leadership skills. To learn more about these prestigious awards\, click here.\n \n\nThank you to our sponsors: Presenting Sponsor  Joe Machens\, Toyota\; Gold Sponsors Dave Griggs Flooring America\;  Location Sponsor Stephens College\; Catering Sponsor Eclipse Catering\; Video Sponsor KOMU 8 & Mid Missouri's CW\; Program Entertainment Sponsor A2D Events\; Floral/Decor Sponsor Blue Diamond Events\; Beverage Sponsor Serenity Valley Winery\; Media Sponsors The COMO 411\, The Columbia Missourian\, COMO Magazine\, Cumulus Media\, Inc.\, Door Mail Marketing LLC\, KOPN 89.5 Fm (New Wave Corporation)\, The Networks of Mid-Missouri-ABC 17/FOX 22\, MeTV\, MyZOUTV\, MAAD Creative LLC\, Missouri Business Alert\, KRCG
X-ALT-DESC;FMTTYPE=text/html:<p align="center"><span style="font-size:14px\;"><span style="font-family: verdana\;">&nbsp\;Presented by:</span><br />\n<span style="font-size:18px\;"><strong>Joe Machens Toyota&nbsp\;</strong></span></span><br />\n<span style="font-size: 14px\;"><span style="font-family: verdana\;">Gold Sponsor:</span></span><br />\n<span style="font-size: 14px\;"><span style="font-family: verdana\;"><strong>Dave Griggs Flooring America</strong></span></span><br />\n<br />\n&nbsp\;</p>\n\n<div style="color: rgb(73\, 73\, 73)\; font-family: Verdana\, Geneva\, sans-serif\; font-size: 14px\;">ATHENA International awards are given annually to business leaders in our community who exemplify the ATHENA spirit - excellence\, creativity and initiative in their business or profession\, and a commitment to helping women reach their full leadership potential.<br />\n<br />\n<span style="font-size: 14px\;"><span style="font-family: verdana\;">On&nbsp\;<strong>May 23</strong>\, Women&#39\;s Network&nbsp\;will present the 2024&nbsp\;ATHENA Young Professional and&nbsp\;ATHENA Leadership&nbsp\;Award to two&nbsp\;deserving&nbsp\;local recipients.&nbsp\;&nbsp\;</span></span><span style="font-family: verdana\; font-size: 14px\;">&nbsp\;&nbsp\;</span><br />\n<br />\n<strong style="text-align: -webkit-center\; font-family: verdana\; font-size: 14px\;" trebuchet="">The registration deadline is Friday\, May 17.&nbsp\;</strong><span style="font-family: verdana\; font-size: 14px\;">For questions or additional information\, please contact Director of Women&#39\;s Network <a href="mailto:jade@columbiamochamber.com">Jade Poe</a>.&nbsp\;</span><br />\n<strong style="text-align: -webkit-center\; font-family: verdana\; font-size: 14px\;" trebuchet=""><em>*Please submit any dietary restrictions&nbsp\;<u>prior to May 10</u>&nbsp\;or we may not be able to accommodate you.*</em></strong><br />\n<br />\n<span style="font-family: verdana\; font-size: 14px\;">The ATHENA Leadership Awards are presented to members of the community&nbsp\;who are honored for professional excellence\, community service and for actively assisting women in their attainment of professional excellence and leadership skills.&nbsp\;To learn more about these prestigious awards\,&nbsp\;</span><a href="https://womensnetworkcomo.com/scholarships-and-awards/" onclick="window.open(this.href\, ''\, 'resizable=no\,status=no\,location=no\,toolbar=no\,menubar=no\,fullscreen=no\,scrollbars=no\,dependent=no')\; return false\;" style="font-family: verdana\; font-size: 14px\;">click here</a><span style="font-family: verdana\; font-size: 14px\;">.</span></div>\n&nbsp\;\n\n<div style="text-align: center\;"><span style="font-size: 14px\;"><span style="font-family: verdana\;">Thank you to our sponsors: Presenting Sponsor<strong>&nbsp\;</strong>&nbsp\;<b>Joe Machens\, Toyota</b>\; Gold Sponsors <strong>Dave Griggs Flooring America</strong>\;&nbsp\;&nbsp\;Location Sponsor <strong>Stephens College</strong>\; Catering Sponsor&nbsp\;<strong>Eclipse Catering</strong>\;&nbsp\;Video Sponsor&nbsp\;<strong>KOMU 8 &amp\; Mid Missouri&#39\;s CW</strong>\; Program Entertainment Sponsor <strong>A2D Events</strong>\;&nbsp\;</span></span><span style="font-family: verdana\; font-size: 14px\;">Floral/</span><span style="font-size: 14px\;"><span style="font-family: verdana\;">Decor Sponsor <b>Blue Diamond Events</b>\; Beverage Sponsor&nbsp\;<strong>Serenity Valley Winery</strong></span></span><strong style="font-family: verdana\; font-size: 14px\; text-align: center\;">\;</strong><strong style="font-family: verdana\; font-size: 14px\; text-align: center\;">&nbsp\;</strong><span style="font-size: 14px\;"><span style="font-family: verdana\;">Media Sponsors<strong>&nbsp\;The COMO 411\,&nbsp\;</strong><strong>The Columbia Missourian</strong>\,&nbsp\;<strong>COMO Magazine</strong></span></span><strong style="font-family: verdana\; font-size: 14px\; text-align: center\;">\,</strong><strong style="font-family: verdana\; font-size: 14px\; text-align: center\;"> </strong><strong style="font-family: verdana\; font-size: 14px\; text-align: center\;">Cumulus Media\, Inc.\, Door Mail Marketing LLC\, KOPN 89.5 Fm (New Wave Corporation)\, The Networks of Mid-Missouri-ABC 17/FOX 22\, MeTV\, MyZOUTV\,&nbsp\;</strong><span style="font-size: 14px\;"><span style="font-family: verdana\;"><strong>MAAD Creative LLC\, Missouri Business Alert\, KRCG</strong></span></span></div>\n
LOCATION:Stephens College Kimball Ballroom 6 North College Ave Columbia\, MO 65201
UID:e.2790.11161
SEQUENCE:3
DTSTAMP:20260421T205504Z
URL:https://business.comochamber.com/events/details/women-s-network-2024-athena-international-awards-11161
END:VEVENT

END:VCALENDAR
