BEGIN:VCALENDAR
VERSION:2.0
PRODID:-//ChamberMaster//Event Calendar 2.0//EN
METHOD:PUBLISH
X-PUBLISHED-TTL:P3D
REFRESH-INTERVAL:P3D
CALSCALE:GREGORIAN
BEGIN:VEVENT
DTSTART:20240430T220000Z
DTEND:20240430T233000Z
X-MICROSOFT-CDO-ALLDAYEVENT:FALSE
SUMMARY:WN Mentor Program Wrap Up Meeting/Mixer
DESCRIPTION:Calling all Women's Network Mentoring pairs! Join us as we wrap up this years mentoring season at Convergence Financial.  Food and beverages will be provided.\n\n\n\nThank you to our location sponsor Convergence Financial and our beverage Sponsor NH Scheppers!
X-ALT-DESC;FMTTYPE=text/html:Calling all Women&#39\;s Network Mentoring pairs! Join us as we wrap up this years mentoring season at Convergence Financial.&nbsp\; Food and beverages will be provided.<br />\n<br />\nThank you to our location sponsor Convergence Financial and our beverage Sponsor NH Scheppers!&nbsp\;
LOCATION:Convergence Financial 200 E Southampton Dr Columbia\, MO 65203
UID:e.2790.11168
SEQUENCE:3
DTSTAMP:20260421T235707Z
URL:https://business.comochamber.com/events/details/wn-mentor-program-wrap-up-meeting-mixer-11168
END:VEVENT

END:VCALENDAR
