BEGIN:VCALENDAR
VERSION:2.0
PRODID:-//ChamberMaster//Event Calendar 2.0//EN
METHOD:PUBLISH
X-PUBLISHED-TTL:P3D
REFRESH-INTERVAL:P3D
CALSCALE:GREGORIAN
BEGIN:VEVENT
DTSTART:20220602T160000Z
DTEND:20220602T173000Z
X-MICROSOFT-CDO-ALLDAYEVENT:FALSE
SUMMARY:WN Leadership Meeting
DESCRIPTION:The Women's Network Leadership Team Meeting
X-ALT-DESC;FMTTYPE=text/html:The Women&#39\;s Network Leadership Team Meeting
LOCATION:Chamber of Commerce Virtual Option: Columbia Chamber of Commerce is inviting you to a scheduled Zoom meeting. Topic: WN Leadership Meeting Time: Feb 3\, 2022 11:00 AM Central Time (US and Canada) Every month on the First Thu\, 10 occurrence(s) Feb 3\, 2022 11:00 AM Mar 3\, 2022 11:00 AM Apr 7\, 2022 11:00 AM May 5\, 2022 11:00 AM Jun 2\, 2022 11:00 AM Jul 7\, 2022 11:00 AM Aug 4\, 2022 11:00 AM Sep 1\, 2022 11:00 AM Oct 6\, 2022 11:00 AM Nov 3\, 2022 11:00 AM Please download and import the following iCalendar (.ics) files to your calendar system. Monthly: https://us02web.zoom.us/meeting/tZErcuGgrjgrGNCMBXtltzA3xGh2HDaHYzMH/ics?icsToken=98tyKuGtqD4iEtSWsRuDRpwMBI_4WfzziHZcjY1-sT3dFyxHeCKlLsVKYJpbEfDp Join Zoom Meeting https://us02web.zoom.us/j/85658803124?pwd=dWcwZklCeTVSSXBHdlVoWGRMZURIdz09 Meeting ID: 856 5880 3124 Passcode: 638806 One tap mobile +13126266799\,\,85658803124#\,\,\,\,*638806# US (Chicago) +16465588656\,\,85658803124#\,\,\,\,*638806# US (New York) Dial by your location +1 312 626 6799 US (Chicago) +1 646 558 8656 US (New York) +1 301 715 8592 US (Washington DC) +1 346 248 7799 US (Houston) +1 669 900 9128 US (San Jose) +1 253 215 8782 US (Tacoma) Meeting ID: 856 5880 3124 Passcode: 638806 Find your local number: https://us02web.zoom.us/u/kej8dcTvN
UID:e.2790.8951
SEQUENCE:3
DTSTAMP:20260423T115425Z
URL:https://business.comochamber.com/events/details/wn-leadership-meeting-06-02-2022-8951
END:VEVENT

END:VCALENDAR
