BEGIN:VCALENDAR
VERSION:2.0
PRODID:-//ChamberMaster//Event Calendar 2.0//EN
METHOD:PUBLISH
X-PUBLISHED-TTL:P3D
REFRESH-INTERVAL:P3D
CALSCALE:GREGORIAN
BEGIN:VEVENT
DTSTART:20230216T173000Z
DTEND:20230216T190000Z
X-MICROSOFT-CDO-ALLDAYEVENT:FALSE
SUMMARY:WN February Luncheon
DESCRIPTION:Presenting Sponsor:\n\nMU Health Care\n\n\n\nWelcome Sponsor: The Trust Company\n\n\n\nDoors will open at 11:30 a.m. and the formal program will begin at 11:50. See you there!\n\n\n\nJoin us for a discussion surrounding Emotional Intelligence! Our guest speaker is Kerry Goyette. \n\nKerry Goyette works at the intersection of AI\, emotional intelligence\, leadership development\, and neuroscience research. She is the Founder and President of Aperio Consulting Group\, which uses workplace analytics and research-based strategies to build high-performance teams. Kerry has consulted for organizations around the world and has given keynotes at the Global HR Inside Summit in Austria and the 2018 Best Employers Awards in Barbados. Her TEDx Talk "Stop Trying to Motivate Your Employees\," which has been viewed more than a million times\, tackles the well-intentioned\, but often unsuccessful methods leaders use in employee engagement. Kerry is the award-winning author of The Non-Obvious Guide to Emotional Intelligence\, recently selected as one of the "Best Business Books" by Forbes magazine. Her work has been featured in The Harvard Business Review\, Fast Company\, CEO World Magazine\, Inc.\, CNBC Make It\, BNN Bloomberg\, and Entrepreneur magazine. She is a Certified Professional Behavior Analyst\, Certified Forensic Interviewer\, active Angel Investor and serves on the University of Missouri MBA Advisory Board.\n\n\n\nAdvance registration is appreciated. Online pre-registration is $20 for members and $25 for guests until 5:00 p.m. on Tuesday\, February 14. After the pre-registration deadline\, walk-in attendees can pay at the door for $25.
X-ALT-DESC;FMTTYPE=text/html:<p style="text-align: center\;"><br />\n<span style="font-family:arial\;">Presenting Sponsor:</span></p>\n\n<p style="text-align: center\;"><span style="font-family:arial\;">MU Health Care<br />\n<br />\nWelcome Sponsor: The Trust Company</span></p>\n\n<div class="MsoNormal" style="margin: 0in 0in 0pt\;"><br />\n<font color="#000000" style="font-family: arial\;">Doors will open at 11:30 a.m. and the formal program will begin at 11:50.&nbsp\;</font><span style="font-family: arial\; color: rgb(0\, 0\, 0)\;">See you there!</span><br />\n<br />\n<span style="font-family: arial\; font-size: 14px\;">Join us for a discussion surrounding Emotional Intelligence! Our guest speaker is Kerry Goyette</span><font face="arial">.&nbsp\;</font><br />\n<span style="font-family: arial\; font-size: 14px\; background-color: rgb(255\, 255\, 255)\;">Kerry Goyette works at the intersection of AI\, emotional intelligence\, leadership development\, and neuroscience research. She is the Founder and President of Aperio Consulting Group\, which uses workplace analytics and research-based strategies to build high-performance teams. Kerry has consulted for organizations around the world and has given keynotes at the Global HR Inside Summit in Austria and the 2018 Best Employers Awards in Barbados. Her TEDx Talk &ldquo\;Stop Trying to Motivate Your Employees\,&rdquo\; which has been viewed more than a million times\, tackles the well-intentioned\, but often unsuccessful methods leaders use in employee&nbsp\;</span><span style="box-sizing: inherit\; background-color: rgb(255\, 255\, 255)\;"><font face="arial"><span style="font-size: 14px\;">engagement. Kerry&nbsp\;is the award-winning author of&nbsp\;</span></font></span><i style="font-family: Lato\, sans-serif\; font-size: 17px\; box-sizing: inherit\; background-color: rgb(255\, 255\, 255)\;"><span style="box-sizing: inherit\;">The Non-Obvious Guide to Emotional Intelligence</span></i><span style="font-family: arial\; font-size: 14px\; box-sizing: inherit\; background-color: rgb(255\, 255\, 255)\;">\, recently selected as one of the &ldquo\;Best Business Books&rdquo\; by&nbsp\;</span><i style="font-family: Lato\, sans-serif\; font-size: 17px\; box-sizing: inherit\; background-color: rgb(255\, 255\, 255)\;"><span style="box-sizing: inherit\;">Forbes&nbsp\;</span></i><span style="font-family: arial\; font-size: 14px\; box-sizing: inherit\; background-color: rgb(255\, 255\, 255)\;">magazine</span><i style="font-family: Lato\, sans-serif\; font-size: 17px\; box-sizing: inherit\; background-color: rgb(255\, 255\, 255)\;"><span style="box-sizing: inherit\;">.&nbsp\;</span></i><span style="font-family: arial\; font-size: 14px\; box-sizing: inherit\; background-color: rgb(255\, 255\, 255)\;">Her work has been featured in&nbsp\;</span><i style="font-family: Lato\, sans-serif\; font-size: 17px\; box-sizing: inherit\; background-color: rgb(255\, 255\, 255)\;"><span style="box-sizing: inherit\;">The Harvard Business Review\, Fast Company\, CEO World Magazine</span></i><span style="font-family: arial\; font-size: 14px\; box-sizing: inherit\; background-color: rgb(255\, 255\, 255)\;">\,&nbsp\;</span><i style="font-family: Lato\, sans-serif\; font-size: 17px\; box-sizing: inherit\; background-color: rgb(255\, 255\, 255)\;"><span style="box-sizing: inherit\;">Inc.\,&nbsp\;</span></i><span style="font-family: arial\; font-size: 14px\; box-sizing: inherit\; background-color: rgb(255\, 255\, 255)\;">CNBC&nbsp\;</span><i style="font-family: Lato\, sans-serif\; font-size: 17px\; box-sizing: inherit\; background-color: rgb(255\, 255\, 255)\;"><span style="box-sizing: inherit\;">Make It</span></i><span style="font-family: arial\; font-size: 14px\; box-sizing: inherit\; background-color: rgb(255\, 255\, 255)\;">\, BNN Bloomberg\, and&nbsp\;</span><i style="font-family: Lato\, sans-serif\; font-size: 17px\; box-sizing: inherit\; background-color: rgb(255\, 255\, 255)\;"><span style="box-sizing: inherit\;">Entrepreneur&nbsp\;</span></i><span style="font-family: arial\; font-size: 14px\; box-sizing: inherit\; background-color: rgb(255\, 255\, 255)\;">magazine. She is a Certified Professional Behavior Analyst\, Certified Forensic Interviewer\, active Angel Investor and serves on the University of Missouri MBA Advisory Board.</span><br />\n<br />\n<span style="font-family: arial\; font-size: 14px\; white-space: pre-wrap\;">Advance registration is appreciated.&nbsp\;</span><span style="font-family: arial\; font-size: 14px\; white-space: pre-wrap\; box-sizing: content-box\; font-weight: bolder\; inset: auto\; clear: none\; content: normal\; direction: inherit\; empty-cells: show\; font-variant-numeric: inherit\; font-stretch: inherit\; line-height: inherit\; margin: 0px\; max-height: none\; max-width: none\; min-height: initial\; min-width: initial\; opacity: 1\; outline-offset: 0px\; overflow: visible\; padding: 0px\; position: static\; resize: none\; table-layout: auto\; text-overflow: clip\; vertical-align: baseline\; visibility: inherit\; word-break: inherit\; overflow-wrap: inherit\; z-index: auto\; background-image: none\; background-position: initial\; background-size: initial\; background-repeat: initial\; background-attachment: initial\; background-origin: initial\; background-clip: initial\; border: none\; border-collapse: separate\; border-radius: 0px\; height: auto\; width: auto\; box-shadow: none\;">Online pre-registration is $20 for members and $25 for guests until 5:00&nbsp\;p.m. on Tuesday\, February 14.</span><span style="font-family: arial\; font-size: 14px\; white-space: pre-wrap\;">&nbsp\;</span><em style="font-family: verdana\; font-size: 14px\; white-space: pre-wrap\;"><span style="box-sizing: content-box\; font-weight: bolder\; bottom: auto\; clear: none\; content: normal\; direction: inherit\; empty-cells: show\; font-variant-numeric: inherit\; font-stretch: inherit\; left: auto\; line-height: inherit\; margin: 0px\; max-height: none\; max-width: none\; min-height: initial\; min-width: initial\; opacity: 1\; outline-offset: 0px\; overflow: visible\; padding: 0px\; position: static\; resize: none\; right: auto\; table-layout: auto\; text-overflow: clip\; top: auto\; vertical-align: baseline\; visibility: inherit\; word-break: inherit\; overflow-wrap: inherit\; z-index: auto\; background-image: none\; background-position: initial\; background-size: initial\; background-repeat: initial\; background-attachment: initial\; background-origin: initial\; background-clip: initial\; border: none\; border-collapse: separate\; border-radius: 0px\; height: auto\; width: auto\; box-shadow: none\;">After&nbsp\;the pre-registration deadline\, walk-in attendees can pay&nbsp\;at the door for $25.</span></em></div>\n
LOCATION:Elk Park Event Center 4747 East Elk Park Drive Columbia\, MO
UID:e.2790.9680
SEQUENCE:3
DTSTAMP:20260422T225442Z
URL:https://business.comochamber.com/events/details/wn-february-luncheon-9680
END:VEVENT

END:VCALENDAR
