BEGIN:VCALENDAR
VERSION:2.0
PRODID:-//ChamberMaster//Event Calendar 2.0//EN
METHOD:PUBLISH
X-PUBLISHED-TTL:P3D
REFRESH-INTERVAL:P3D
CALSCALE:GREGORIAN
BEGIN:VEVENT
DTSTART:20200825T213000Z
DTEND:20200825T223000Z
X-MICROSOFT-CDO-ALLDAYEVENT:FALSE
SUMMARY:Virtual: Ambassador Mixer # 1 2020
DESCRIPTION:TUESDAY\, AUGUST 25\n\nAmbassador Mixer #1\n\nTime: 4:30   5:30 p.m.\n\nVia Zoom
X-ALT-DESC;FMTTYPE=text/html:<strong>TUESDAY\, AUGUST 25</strong><br />\n<strong><em>Ambassador Mixer #1</em></strong><br />\n<strong>Time: 4:30 &ndash\; 5:30 p.m.<br />\nVia Zoom</strong>
LOCATION:
UID:e.2790.7413
SEQUENCE:3
DTSTAMP:20260425T010555Z
URL:https://business.comochamber.com/events/details/virtual-ambassador-mixer-1-2020-7413
END:VEVENT

END:VCALENDAR
