BEGIN:VCALENDAR
VERSION:2.0
PRODID:-//ChamberMaster//Event Calendar 2.0//EN
METHOD:PUBLISH
X-PUBLISHED-TTL:P3D
REFRESH-INTERVAL:P3D
CALSCALE:GREGORIAN
BEGIN:VEVENT
DTSTART:20210429T203000Z
DTEND:20210429T220000Z
X-MICROSOFT-CDO-ALLDAYEVENT:FALSE
SUMMARY:TRC 2021: Kick-Off & 'What's New' Meeting
DESCRIPTION:The Total Resource Campaign (TRC) is the Chamber's annual sponsorship campaign where a sales team of volunteers sell event/program sponsorships and advertising for the Chamber's upcoming program year. TRC Sales for the 2021-2022 program year will begin on May 3rd and end on July 30th.\n\n\n\nIf you are interested in being a part of our volunteer sales team\, we would love to have you join us!  An informational meeting will be held online on Tuesday\, June 9 at 8:30 a.m. via Zoom.  Anyone who wishes to be a part of this year's sales team (new or experienced) should plan to attend this meeting.  During this meeting we will cover\, updates that have been made to the campaign since last year\, sponsorships opportunities that will be available to sell for the 2021-2022 fiscal year\, the campaign sales goal for 2021\, etc.  \n\n\nClick here to join the meeting\n\n\nIf you have any additional questions regarding this year's Total Resource Campaign\, or if you wish to be a part of the sales team and cannot attend the meeting\, please contact Whitney Schieber\, Director of Membership Engagement at (573) 817-9119.
X-ALT-DESC;FMTTYPE=text/html:<span style="font-size:14px\;"><span style="font-family:verdana\;">The Total Resource Campaign (TRC) is the Chamber&#39\;s annual sponsorship campaign where a sales team of volunteers sell event/program sponsorships and advertising for the Chamber&#39\;s upcoming program year. TRC Sales for the 2021-2022 program year will begin on May 3rd and end on July 30th.</span></span><br />\n<br />\n<span style="font-family: verdana\; font-size: 14px\;">If you are interested in being a part of our volunteer sales team\,&nbsp\;we would love to have you join us!&nbsp\;&nbsp\;</span><span style="font-size:14px\;"><span style="font-family:verdana\;">An informational meeting will be held online on&nbsp\;<strong>Tuesday\,&nbsp\;June 9</strong>&nbsp\;at <strong>8:30 a.m.</strong> via <a href="https://us02web.zoom.us/j/89702396472" onclick="window.open(this.href\, ''\, 'resizable=no\,status=no\,location=no\,toolbar=no\,menubar=no\,fullscreen=no\,scrollbars=no\,dependent=no')\; return false\;"><strong>Zoom</strong></a>.&nbsp\; <strong><u>Anyone who wishes to be a part of this year&#39\;s sales team </u></strong><u>(new or experienced)</u><strong><u> should plan to attend this meeting.</u>&nbsp\;</strong>&nbsp\;During this meeting we will cover\, updates that have been made to the campaign since last year\, sponsorships opportunities that will be available to sell for the 2021-2022 fiscal year\, the campaign sales goal for 2021\, etc.&nbsp\;&nbsp\;</span></span>\n<div style="text-align: center\;"><br />\n<a href="https://teams.microsoft.com/l/meetup-join/19%3ameeting_MWI2NGI4YjMtMmYxMy00YzIyLWJjMjAtNDdjNTE1Yzc1ZDdk%40thread.v2/0?context=%7b%22Tid%22%3a%222af07780-c011-4b02-9c68-b0e3e5f3bfef%22%2c%22Oid%22%3a%22ccfa9189-1c26-4836-8804-158b8b482f28%22%7d" target="_blank"><span style="font-size:14px\;"><span style="font-family:verdana\;"><strong><span style="background-color:#ffff99\;">Click here to join the meeting</span></strong></span></span></a></div>\n<br />\n<span style="font-size:14px\;"><span style="font-family:verdana\;">If you have any additional questions regarding this year&#39\;s Total Resource Campaign\, or if you wish to be a part of the sales team and cannot attend the meeting\, please contact <a href="mailto:wschieber@ColumbiaMOChamber.com?subject=Total%20Resource%20Campaign" target="_blank">Whitney Schieber</a>\, Director of Membership Engagement at (573) 817-9119.</span></span>
LOCATION:Hybrid meeting\; at the Chamber and on Microsoft Teams
UID:e.2790.8000
SEQUENCE:3
DTSTAMP:20260424T121825Z
URL:https://business.comochamber.com/events/details/trc-2021-kick-off-what-s-new-meeting-8000
END:VEVENT

END:VCALENDAR
