BEGIN:VCALENDAR
VERSION:2.0
PRODID:-//ChamberMaster//Event Calendar 2.0//EN
METHOD:PUBLISH
X-PUBLISHED-TTL:P3D
REFRESH-INTERVAL:P3D
CALSCALE:GREGORIAN
BEGIN:VEVENT
DTSTART:20200220T220000Z
DTEND:20200220T230000Z
X-MICROSOFT-CDO-ALLDAYEVENT:FALSE
SUMMARY:Transportation & Infrastructure Committee Meeting
DESCRIPTION:Co-chaired by John Frerking\, Engineering Surveys & Services and Brian Burks\, Emery Sapp and Sons. The purpose of the Transportation & Infrastructure Committee is to facilitate discussion and decision-making to improve highway\, roadway\, airway\, public and non-motorized transportation infrastructure in the Columbia area.
X-ALT-DESC;FMTTYPE=text/html:<span style="font-family: verdana\; font-size: 14px\;">Co-chaired by&nbsp\;</span><strong style="font-family: verdana\; font-size: 14px\;">John Frerking\, Engineering Surveys &amp\; Services and Brian Burks\, Emery Sapp and Sons</strong><span style="font-family: verdana\; font-size: 14px\;">. The purpose of the Transportation &amp\; Infrastructure Committee is to facilitate discussion and decision-making to improve highway\, roadway\, airway\, public and non-motorized transportation infrastructure in the Columbia area.</span>
LOCATION:Community Room at the Walton Building 300 S Providence Rd Columbia\, MO 65203
UID:e.2790.6375
SEQUENCE:3
DTSTAMP:20260426T031245Z
URL:https://business.comochamber.com/events/details/transportation-infrastructure-committee-meeting-6375
END:VEVENT

END:VCALENDAR
