BEGIN:VCALENDAR
VERSION:2.0
PRODID:-//ChamberMaster//Event Calendar 2.0//EN
METHOD:PUBLISH
X-PUBLISHED-TTL:P3D
REFRESH-INTERVAL:P3D
CALSCALE:GREGORIAN
BEGIN:VEVENT
DTSTART:20240509T220000Z
DTEND:20240510T010000Z
X-MICROSOFT-CDO-ALLDAYEVENT:FALSE
SUMMARY:Small Business of the Year Awards 2024
DESCRIPTION:Small Business Week 2024 is May 6th-May9th! Each year\, we honor our small business community by recognizing five exceptional small business members who represent the spirit of the business community through their innovation\, community involvement\, and financial success. Finalists for Small Business of the Year are nominated by our membership and selected by a panel of expert judges.\n\nWe'll celebrate our five finalist businesses throughout Small Business Week with seminars that allow them to show off the best their business has to offer. At the end of the week\, we'll name our 2024 Small Business of the Year at an Awards Celebration.
X-ALT-DESC;FMTTYPE=text/html:<p style="box-sizing: border-box\; margin: 0px 0px 10px\; font-size: 16px\; letter-spacing: 0.3px\; line-height: 24px\; font-family: raleway\;"><span style="box-sizing: border-box\; font-weight: 700\; margin-bottom: 0px\;">Small Business Week 2024&nbsp\;is May 6th-May9th!</span>&nbsp\;Each year\, we honor our small business community by recognizing five exceptional small business members who represent the spirit of the business community through their innovation\, community involvement\, and financial success. Finalists for Small Business of the Year are nominated by our membership and selected by a panel of expert judges.</p>\n\n<p style="box-sizing: border-box\; margin: 0px 0px 10px\; font-size: 16px\; letter-spacing: 0.3px\; line-height: 24px\; font-family: raleway\;">We&rsquo\;ll celebrate our five finalist businesses throughout Small Business Week with seminars that allow them to show off the best their business has to offer. At the end of the week\, we&rsquo\;ll name our 2024&nbsp\;Small Business of the Year at an Awards Celebration.</p>\n<br />\n<br />\n<br />\n<br />\n<br />\n<br />\n<br />\n<strong>&nbsp\;</strong><br />\n<br />\n<br />\n<br />\n&nbsp\;
LOCATION:Awards Cooper's Ridge 24991 MO-98\, Boonville\, MO 65233 Thank you to our Small Business of the Year Award Sponsors PRESENTING SPONSOR Video Sponsor The Evoke Group - Supporting Sponsor Elevato & The Connection Exchange- Catering Sponsor Columbia Insurance Group - Floral Sponsor Socket Telecom - Plaque Sponsor Visionworks Marketing Group - Central Bank of Boone County - Location Sponsor Cooper's Ridge Event Venue - Photography Sponsor Sarah Jane Photography
UID:e.2790.10898
SEQUENCE:3
DTSTAMP:20260421T205641Z
URL:https://business.comochamber.com/events/details/small-business-of-the-year-awards-2024-10898
END:VEVENT

END:VCALENDAR
