BEGIN:VCALENDAR
VERSION:2.0
PRODID:-//ChamberMaster//Event Calendar 2.0//EN
METHOD:PUBLISH
X-PUBLISHED-TTL:P3D
REFRESH-INTERVAL:P3D
CALSCALE:GREGORIAN
BEGIN:VEVENT
DTSTART:20230216T173000Z
DTEND:20230216T180000Z
X-MICROSOFT-CDO-ALLDAYEVENT:FALSE
SUMMARY:RIBBON CUTTING: Women's Network
DESCRIPTION:Ambassadors will host a ribbon cutting celebrating Women's Network's Survey Launch.
X-ALT-DESC;FMTTYPE=text/html:<span style="font-size:14px\;"><span style="font-family:verdana\;">Ambassadors will host a ribbon cutting celebrating Women&#39\;s Network&#39\;s Survey Launch.</span></span>
LOCATION:474 E Elk Park Drive Columbia MO 65201
UID:e.2790.10552
SEQUENCE:3
DTSTAMP:20260422T225549Z
URL:https://business.comochamber.com/events/details/ribbon-cutting-women-s-network-10552
END:VEVENT

END:VCALENDAR
