BEGIN:VCALENDAR
VERSION:2.0
PRODID:-//ChamberMaster//Event Calendar 2.0//EN
METHOD:PUBLISH
X-PUBLISHED-TTL:P3D
REFRESH-INTERVAL:P3D
CALSCALE:GREGORIAN
BEGIN:VEVENT
DTSTART:20240816T130000Z
DTEND:20240817T013000Z
X-MICROSOFT-CDO-ALLDAYEVENT:FALSE
SUMMARY:RIBBON CUTTING: Walmart
DESCRIPTION:Ambassadors will schedule a ribbon cutting celebrating Walmart's Re-grand opening.
X-ALT-DESC;FMTTYPE=text/html:<span style="font-size:14px\;"><span style="font-family:verdana\;">Ambassadors will schedule a ribbon cutting celebrating Walmart&#39\;s Re-grand opening.</span></span>
LOCATION:Walmart 3001 W. Broadway Columbia MO 65203
UID:e.2790.11470
SEQUENCE:3
DTSTAMP:20260421T140728Z
URL:https://business.comochamber.com/events/details/ribbon-cutting-walmart-11470
END:VEVENT

END:VCALENDAR
