BEGIN:VCALENDAR
VERSION:2.0
PRODID:-//ChamberMaster//Event Calendar 2.0//EN
METHOD:PUBLISH
X-PUBLISHED-TTL:P3D
REFRESH-INTERVAL:P3D
CALSCALE:GREGORIAN
BEGIN:VEVENT
DTSTART:20230726T210000Z
DTEND:20230726T213000Z
X-MICROSOFT-CDO-ALLDAYEVENT:FALSE
SUMMARY:RIBBON CUTTING: University of Missouri - College of Veterinary Medicine
DESCRIPTION:Ambassadors will host a ribbon cutting celebrating the University of Missouri - College of Veterinary Medicine.
X-ALT-DESC;FMTTYPE=text/html:<span style="font-size:14px\;"><span style="font-family:verdana\;">Ambassadors will host a ribbon cutting celebrating the University of Missouri - College of Veterinary Medicine.</span></span>
LOCATION:Mizzou Veterinary Health Center 900 E Campus Dr. - Large Animal Hospital Columbia MO 65211
UID:e.2790.11078
SEQUENCE:3
DTSTAMP:20260419T182359Z
URL:https://business.comochamber.com/events/details/ribbon-cutting-university-of-missouri-college-of-veterinary-medicine-11078
END:VEVENT

END:VCALENDAR
