BEGIN:VCALENDAR
VERSION:2.0
PRODID:-//ChamberMaster//Event Calendar 2.0//EN
METHOD:PUBLISH
X-PUBLISHED-TTL:P3D
REFRESH-INTERVAL:P3D
CALSCALE:GREGORIAN
BEGIN:VEVENT
DTSTART:20240920T191500Z
DTEND:20240920T194500Z
X-MICROSOFT-CDO-ALLDAYEVENT:FALSE
SUMMARY:RIBBON CUTTING: University of Missouri College of Health and Sciences
DESCRIPTION:Ambassadors will host a ribbon cutting celebrating the University of Missouri College of Health and Sciences Grand Opening for the newly remodeled Clark Hall.
X-ALT-DESC;FMTTYPE=text/html:<span style="font-size:14px\;"><span style="font-family:verdana\;">Ambassadors will host a ribbon cutting celebrating the University of Missouri College of Health and Sciences Grand Opening for the newly remodeled Clark Hall.</span></span>
LOCATION:Lewis and Clark Hall 701 S 5th Street. Columbia MO 65211
UID:e.2790.11217
SEQUENCE:3
DTSTAMP:20260421T105422Z
URL:https://business.comochamber.com/events/details/ribbon-cutting-university-of-missouri-college-of-health-and-sciences-11217
END:VEVENT

END:VCALENDAR
