BEGIN:VCALENDAR
VERSION:2.0
PRODID:-//ChamberMaster//Event Calendar 2.0//EN
METHOD:PUBLISH
X-PUBLISHED-TTL:P3D
REFRESH-INTERVAL:P3D
CALSCALE:GREGORIAN
BEGIN:VEVENT
DTSTART:20250915T143000Z
DTEND:20250915T150000Z
X-MICROSOFT-CDO-ALLDAYEVENT:FALSE
SUMMARY:RIBBON CUTTING: University of Missouri
DESCRIPTION:The Ambassadors will perform a ribbon cutting to celebrate the Mizzou Homecoming Blood Drive sponsored by the Mizzou Alumni Association.
X-ALT-DESC;FMTTYPE=text/html:The Ambassadors will perform a ribbon cutting to celebrate the Mizzou Homecoming Blood Drive sponsored by the Mizzou Alumni Association.&nbsp\;
LOCATION:Mizzou Rec Center 1000 Rollins St. Columbia\, MO 65203
UID:e.2790.12110
SEQUENCE:3
DTSTAMP:20260420T194254Z
URL:https://business.comochamber.com/events/details/ribbon-cutting-university-of-missouri-12110
END:VEVENT

END:VCALENDAR
