BEGIN:VCALENDAR
VERSION:2.0
PRODID:-//ChamberMaster//Event Calendar 2.0//EN
METHOD:PUBLISH
X-PUBLISHED-TTL:P3D
REFRESH-INTERVAL:P3D
CALSCALE:GREGORIAN
BEGIN:VEVENT
DTSTART:20241007T153000Z
DTEND:20241007T160000Z
X-MICROSOFT-CDO-ALLDAYEVENT:FALSE
SUMMARY:RIBBON CUTTING: University of Missouri
DESCRIPTION:Ambassadors will host a ribbon cutting celebrating the University of Missouri Annual Homecoming Blood Drive.
X-ALT-DESC;FMTTYPE=text/html:<span style="font-size:14px\;"><span style="font-family:verdana\;">Ambassadors will host a ribbon cutting celebrating the University of Missouri Annual Homecoming Blood Drive.&nbsp\;</span></span>
LOCATION:Mizzou REC Center 1000 Rollins St. Columbia MO 65203
UID:e.2790.11467
SEQUENCE:3
DTSTAMP:20260421T093212Z
URL:https://business.comochamber.com/events/details/ribbon-cutting-university-of-missouri-11467
END:VEVENT

END:VCALENDAR
