BEGIN:VCALENDAR
VERSION:2.0
PRODID:-//ChamberMaster//Event Calendar 2.0//EN
METHOD:PUBLISH
X-PUBLISHED-TTL:P3D
REFRESH-INTERVAL:P3D
CALSCALE:GREGORIAN
BEGIN:VEVENT
DTSTART:20220714T160000Z
DTEND:20220714T163000Z
X-MICROSOFT-CDO-ALLDAYEVENT:FALSE
SUMMARY:RIBBON CUTTING: Truman VA\, CCUA & The Food Bank
DESCRIPTION:Ambassadors will host a ribbon cutting to celebrate the opening of the new Veterans Food Pantry.
X-ALT-DESC;FMTTYPE=text/html:<span style="font-size:14px\;"><span style="font-family:verdana\;">Ambassadors will host a ribbon cutting to celebrate the opening of the new Veterans Food Pantry.</span></span>
LOCATION:Truman Veterans Hospital 800 Hospital Dr Columbia MO 65201
UID:e.2790.9670
SEQUENCE:3
DTSTAMP:20260423T103840Z
URL:https://business.comochamber.com/events/details/ribbon-cutting-truman-va-ccua-the-food-bank-9670
END:VEVENT

END:VCALENDAR
