BEGIN:VCALENDAR
VERSION:2.0
PRODID:-//ChamberMaster//Event Calendar 2.0//EN
METHOD:PUBLISH
X-PUBLISHED-TTL:P3D
REFRESH-INTERVAL:P3D
CALSCALE:GREGORIAN
BEGIN:VEVENT
DTSTART:20260429T210000Z
DTEND:20260429T214500Z
X-MICROSOFT-CDO-ALLDAYEVENT:FALSE
SUMMARY:RIBBON CUTTING: The Walters Team
DESCRIPTION:Ambassadors will cut the ceremonious ribbon to commemorate the completion of a new housing development in Columbia.
X-ALT-DESC;FMTTYPE=text/html:Ambassadors will cut the ceremonious ribbon to commemorate the completion of a new housing development in Columbia.&nbsp\;&nbsp\;
LOCATION:Bristol Ridge Development 2801 Easley Cabin Circle Columbia\, Mo 65201
UID:e.2790.12322
SEQUENCE:3
DTSTAMP:20260420T112906Z
URL:https://business.comochamber.com/events/details/ribbon-cutting-the-walters-team-12322
END:VEVENT

END:VCALENDAR
