BEGIN:VCALENDAR
VERSION:2.0
PRODID:-//ChamberMaster//Event Calendar 2.0//EN
METHOD:PUBLISH
X-PUBLISHED-TTL:P3D
REFRESH-INTERVAL:P3D
CALSCALE:GREGORIAN
BEGIN:VEVENT
DTSTART:20230208T183000Z
DTEND:20230208T190000Z
X-MICROSOFT-CDO-ALLDAYEVENT:FALSE
SUMMARY:RIBBON CUTTING: The Spay Neuter Project
DESCRIPTION:Ambassadors will host a ribbon cutting celebrating The Spay Neuter Projects New Chamber Membership and Spay Neuter Awareness Month.
X-ALT-DESC;FMTTYPE=text/html:<span style="font-size:14px\;"><span style="font-family:verdana\;">Ambassadors will host a ribbon cutting celebrating The Spay Neuter Projects New Chamber Membership and Spay Neuter Awareness Month.</span></span>
LOCATION:206 Austin Ave. Ste. A Columbia MO 65203
UID:e.2790.10546
SEQUENCE:3
DTSTAMP:20260422T225808Z
URL:https://business.comochamber.com/events/details/ribbon-cutting-the-spay-neuter-project-10546
END:VEVENT

END:VCALENDAR
