BEGIN:VCALENDAR
VERSION:2.0
PRODID:-//ChamberMaster//Event Calendar 2.0//EN
METHOD:PUBLISH
X-PUBLISHED-TTL:P3D
REFRESH-INTERVAL:P3D
CALSCALE:GREGORIAN
BEGIN:VEVENT
DTSTART:20240807T143000Z
DTEND:20240807T150000Z
X-MICROSOFT-CDO-ALLDAYEVENT:FALSE
SUMMARY:RIBBON CUTTING: The Para Project
DESCRIPTION:Ambassadors will host a ribbon cutting celebrating The Para Project's Grand Opening.
X-ALT-DESC;FMTTYPE=text/html:<span style="font-size:14px\;"><span style="font-family:verdana\;">Ambassadors will host a ribbon cutting celebrating The Para Project&#39\;s Grand Opening.</span></span>
LOCATION:The Para Project 300 Portland Ste. 140 Columbia MO 65201
UID:e.2790.11442
SEQUENCE:3
DTSTAMP:20260421T154932Z
URL:https://business.comochamber.com/events/details/ribbon-cutting-the-para-project-11442
END:VEVENT

END:VCALENDAR
