BEGIN:VCALENDAR
VERSION:2.0
PRODID:-//ChamberMaster//Event Calendar 2.0//EN
METHOD:PUBLISH
X-PUBLISHED-TTL:P3D
REFRESH-INTERVAL:P3D
CALSCALE:GREGORIAN
BEGIN:VEVENT
DTSTART:20250306T223000Z
DTEND:20250306T230000Z
X-MICROSOFT-CDO-ALLDAYEVENT:FALSE
SUMMARY:RIBBON CUTTING: The Only Facial
DESCRIPTION:The Ambassadors will perform a ribbon cutting to celebrate the Grand Opening of The Only Facial!
X-ALT-DESC;FMTTYPE=text/html:The Ambassadors will perform a ribbon cutting to celebrate the Grand Opening of The Only Facial!
LOCATION:The Only Facial - Forum Shops 1400 Forum Blvd Suite #2 Columbia\, MO 65203
UID:e.2790.11700
SEQUENCE:3
DTSTAMP:20260421T020239Z
URL:https://business.comochamber.com/events/details/ribbon-cutting-the-only-facial-11700
END:VEVENT

END:VCALENDAR
