BEGIN:VCALENDAR
VERSION:2.0
PRODID:-//ChamberMaster//Event Calendar 2.0//EN
METHOD:PUBLISH
X-PUBLISHED-TTL:P3D
REFRESH-INTERVAL:P3D
CALSCALE:GREGORIAN
BEGIN:VEVENT
DTSTART:20250514T190000Z
DTEND:20250514T193000Z
X-MICROSOFT-CDO-ALLDAYEVENT:FALSE
SUMMARY:RIBBON CUTTING: The Networks of Mid Missouri
DESCRIPTION:The Ambassadors will conduct a ribbon cutting to celebrate the commissioning of KMIZ's new news set.
X-ALT-DESC;FMTTYPE=text/html:The Ambassadors will conduct a ribbon cutting to celebrate the commissioning of KMIZ&#39\;s new news set.
LOCATION:KMIZ-TV Studios 501 Business Loop 70 East Columbia\, MO 65201
UID:e.2790.12023
SEQUENCE:3
DTSTAMP:20260420T233302Z
URL:https://business.comochamber.com/events/details/ribbon-cutting-the-networks-of-mid-missouri-12023
END:VEVENT

END:VCALENDAR
