BEGIN:VCALENDAR
VERSION:2.0
PRODID:-//ChamberMaster//Event Calendar 2.0//EN
METHOD:PUBLISH
X-PUBLISHED-TTL:P3D
REFRESH-INTERVAL:P3D
CALSCALE:GREGORIAN
BEGIN:VEVENT
DTSTART:20230621T214500Z
DTEND:20230621T221500Z
X-MICROSOFT-CDO-ALLDAYEVENT:FALSE
SUMMARY:RIBBON CUTTING: The Missouri Symphony
DESCRIPTION:Ambassadors will host a ribbon cutting celebrating The Missouri Symphony opening\, of their summer Music Festival and newly renamed Firefly Music Festival.
X-ALT-DESC;FMTTYPE=text/html:<span style="font-size:14px\;"><span style="font-family:verdana\;">Ambassadors will host a ribbon cutting celebrating The Missouri Symphony opening\, of their summer Music Festival and newly renamed Firefly Music Festival.</span></span>
LOCATION:The Missouri Symphony 203 S 9th St. Columbia MO 65201
UID:e.2790.10893
SEQUENCE:3
DTSTAMP:20260422T173452Z
URL:https://business.comochamber.com/events/details/ribbon-cutting-the-missouri-symphony-10893
END:VEVENT

END:VCALENDAR
