BEGIN:VCALENDAR
VERSION:2.0
PRODID:-//ChamberMaster//Event Calendar 2.0//EN
METHOD:PUBLISH
X-PUBLISHED-TTL:P3D
REFRESH-INTERVAL:P3D
CALSCALE:GREGORIAN
BEGIN:VEVENT
DTSTART:20241101T133000Z
DTEND:20241101T133000Z
X-MICROSOFT-CDO-ALLDAYEVENT:FALSE
SUMMARY:RIBBON CUTTING: The Food Bank for Central & Northeast Missouri
DESCRIPTION:The Ambassadors will perform a ribbon cutting to celebrate the anniversary of The Food Bank Market.
X-ALT-DESC;FMTTYPE=text/html:The Ambassadors will perform a ribbon cutting to celebrate the anniversary of The Food Bank Market.
LOCATION:The Food Bank Market 705 Business Loop 70 West Columbia MO 65201
UID:e.2790.11656
SEQUENCE:3
DTSTAMP:20260421T074724Z
URL:https://business.comochamber.com/events/details/ribbon-cutting-the-food-bank-for-central-northeast-missouri-11656
END:VEVENT

END:VCALENDAR
