BEGIN:VCALENDAR
VERSION:2.0
PRODID:-//ChamberMaster//Event Calendar 2.0//EN
METHOD:PUBLISH
X-PUBLISHED-TTL:P3D
REFRESH-INTERVAL:P3D
CALSCALE:GREGORIAN
BEGIN:VEVENT
DTSTART:20250919T155500Z
DTEND:20250919T162500Z
X-MICROSOFT-CDO-ALLDAYEVENT:FALSE
SUMMARY:RIBBON CUTTING: The Food Bank for Central and Northeast Missouri
DESCRIPTION:The Ambassadors will perform a ribbon cutting to unveil a new co-branded semi-trailer wrap to celebrate 30 years of the Score Against Hunger campaign\, a partnership between The Food Bank and Mizzou Athletics that helps us tackle hunger together.
X-ALT-DESC;FMTTYPE=text/html:<p style="margin-top: 0px\; margin-bottom: 0px\;"><span style="font-family: Arial\, Helvetica\, sans-serif\; font-size: 10pt\; color: rgb(0\, 0\, 0)\;">The Ambassadors will perform a ribbon cutting to unveil a new co-branded semi-trailer wrap to celebrate 30 years of the Score Against Hunger campaign\, a partnership between The Food Bank and Mizzou Athletics that helps us tackle hunger together.&nbsp\;</span></p>\n
LOCATION:Mizzou Stadium area - exact location TBD closer to event time
UID:e.2790.12240
SEQUENCE:3
DTSTAMP:20260420T171240Z
URL:https://business.comochamber.com/events/details/ribbon-cutting-the-food-bank-for-central-and-northeast-missouri-12240
END:VEVENT

END:VCALENDAR
