BEGIN:VCALENDAR
VERSION:2.0
PRODID:-//ChamberMaster//Event Calendar 2.0//EN
METHOD:PUBLISH
X-PUBLISHED-TTL:P3D
REFRESH-INTERVAL:P3D
CALSCALE:GREGORIAN
BEGIN:VEVENT
DTSTART:20240520T204500Z
DTEND:20240520T211500Z
X-MICROSOFT-CDO-ALLDAYEVENT:FALSE
SUMMARY:RIBBON CUTTING: The Food Bank for Central and Northeast Missouri
DESCRIPTION:Ambassadors will host a ribbon cutting celebrating The Food Bank for Central & Northeast Missouri's community celebration of The Food Bank Market.
X-ALT-DESC;FMTTYPE=text/html:<span style="font-size:14px\;"><span style="font-family:verdana\;">Ambassadors will host a ribbon cutting celebrating The Food Bank for Central &amp\; Northeast Missouri&#39\;s community celebration of The Food Bank Market.</span></span>
LOCATION:The Food Bank Market 705 Business Loop 70 W Columbia MO 65203
UID:e.2790.11234
SEQUENCE:3
DTSTAMP:20260421T210108Z
URL:https://business.comochamber.com/events/details/ribbon-cutting-the-food-bank-for-central-and-northeast-missouri-11234
END:VEVENT

END:VCALENDAR
