BEGIN:VCALENDAR
VERSION:2.0
PRODID:-//ChamberMaster//Event Calendar 2.0//EN
METHOD:PUBLISH
X-PUBLISHED-TTL:P3D
REFRESH-INTERVAL:P3D
CALSCALE:GREGORIAN
BEGIN:VEVENT
DTSTART:20220923T150000Z
DTEND:20220924T033000Z
X-MICROSOFT-CDO-ALLDAYEVENT:FALSE
SUMMARY:RIBBON CUTTING: The Food Bank for Central and Northeast Missouri
DESCRIPTION:Ambassadors will host a ribbon cutting celebrating the Food Bank for Central and Northeast Missouri's Hunger Action Day.
X-ALT-DESC;FMTTYPE=text/html:Ambassadors will host a ribbon cutting celebrating the Food Bank for Central and Northeast Missouri&#39\;s Hunger Action Day.<br />\n&nbsp\;
LOCATION:City Hall - Plaza 701 E Broadway Columbia MO 65201
UID:e.2790.10246
SEQUENCE:3
DTSTAMP:20260423T071710Z
URL:https://business.comochamber.com/events/details/ribbon-cutting-the-food-bank-for-central-and-northeast-missouri-10246
END:VEVENT

END:VCALENDAR
