BEGIN:VCALENDAR
VERSION:2.0
PRODID:-//ChamberMaster//Event Calendar 2.0//EN
METHOD:PUBLISH
X-PUBLISHED-TTL:P3D
REFRESH-INTERVAL:P3D
CALSCALE:GREGORIAN
BEGIN:VEVENT
DTSTART:20241101T170000Z
DTEND:20241101T173000Z
X-MICROSOFT-CDO-ALLDAYEVENT:FALSE
SUMMARY:RIBBON CUTTING: The District\, Downtown CID
DESCRIPTION:The Ambassadors will perform a ribbon cutting to celebrate the new downtown Columbia gift card program starting for District small businesses.
X-ALT-DESC;FMTTYPE=text/html:The Ambassadors will perform a ribbon cutting to celebrate the new downtown Columbia gift card program starting for District small businesses.
LOCATION:The District Office 11 South 10th Street Columbia\, MO 65201
UID:e.2790.11657
SEQUENCE:3
DTSTAMP:20260421T092629Z
URL:https://business.comochamber.com/events/details/ribbon-cutting-the-district-downtown-cid-11657
END:VEVENT

END:VCALENDAR
