BEGIN:VCALENDAR
VERSION:2.0
PRODID:-//ChamberMaster//Event Calendar 2.0//EN
METHOD:PUBLISH
X-PUBLISHED-TTL:P3D
REFRESH-INTERVAL:P3D
CALSCALE:GREGORIAN
BEGIN:VEVENT
DTSTART;VALUE=DATE:20250613
DTEND;VALUE=DATE:20250614
TRANSP:TRANSPARENT
X-MICROSOFT-CDO-ALLDAYEVENT:TRUE
SUMMARY:RIBBON CUTTING: The Connection Exchange
DESCRIPTION:The Ambassadors will perform a ribbon cutting to celebrate the 10th Anniversary of The Connection Exchange.
X-ALT-DESC;FMTTYPE=text/html:The Ambassadors will perform a ribbon cutting to celebrate the 10th Anniversary of The Connection Exchange.&nbsp\;
LOCATION:The Connection Exchange 204 Peach Way #A\, Columbia\, MO 65203
UID:e.2790.12036
SEQUENCE:3
DTSTAMP:20260420T203623Z
URL:https://business.comochamber.com/events/details/ribbon-cutting-the-connection-exchange-12036
END:VEVENT

END:VCALENDAR
