BEGIN:VCALENDAR
VERSION:2.0
PRODID:-//ChamberMaster//Event Calendar 2.0//EN
METHOD:PUBLISH
X-PUBLISHED-TTL:P3D
REFRESH-INTERVAL:P3D
CALSCALE:GREGORIAN
BEGIN:VEVENT
DTSTART:20250115T180000Z
DTEND:20250115T183000Z
X-MICROSOFT-CDO-ALLDAYEVENT:FALSE
SUMMARY:RIBBON CUTTING: The Assistance League of Mid Missouri
DESCRIPTION:The Ambassadors will conduct a ribbon cutting to celebrate a grand re-opening of Upscale Resale and the store's remodeling.
X-ALT-DESC;FMTTYPE=text/html:The Ambassadors will conduct a ribbon cutting to celebrate a grand re-opening of Upscale Resale and the store&#39\;s remodeling.
LOCATION:Upscale Resale 1729 West Broadway Suite 1-A Columbia\, MO 65203
UID:e.2790.11685
SEQUENCE:3
DTSTAMP:20260421T083918Z
URL:https://business.comochamber.com/events/details/ribbon-cutting-the-assistance-league-of-mid-missouri-11685
END:VEVENT

END:VCALENDAR
