BEGIN:VCALENDAR
VERSION:2.0
PRODID:-//ChamberMaster//Event Calendar 2.0//EN
METHOD:PUBLISH
X-PUBLISHED-TTL:P3D
REFRESH-INTERVAL:P3D
CALSCALE:GREGORIAN
BEGIN:VEVENT
DTSTART:20241115T180000Z
DTEND:20241115T183000Z
X-MICROSOFT-CDO-ALLDAYEVENT:FALSE
SUMMARY:RIBBON CUTTING: Terracon
DESCRIPTION:The Ambassadors will perform a ribbon cutting to celebrate the new location.
X-ALT-DESC;FMTTYPE=text/html:The Ambassadors will perform a ribbon cutting to celebrate the new location.
LOCATION:Terracon (New building) 4441 Interstate 70 Drive NW Columbia\, MO 65202
UID:e.2790.11655
SEQUENCE:3
DTSTAMP:20260421T073618Z
URL:https://business.comochamber.com/events/details/ribbon-cutting-terracon-11655
END:VEVENT

END:VCALENDAR
