BEGIN:VCALENDAR
VERSION:2.0
PRODID:-//ChamberMaster//Event Calendar 2.0//EN
METHOD:PUBLISH
X-PUBLISHED-TTL:P3D
REFRESH-INTERVAL:P3D
CALSCALE:GREGORIAN
BEGIN:VEVENT
DTSTART:20240808T153000Z
DTEND:20240808T160000Z
X-MICROSOFT-CDO-ALLDAYEVENT:FALSE
SUMMARY:RIBBON CUTTING: Stephens College
DESCRIPTION:Ambassadors will host a ribbon cutting celebrating Stephens College's launch of Missouri Women Works Program.
X-ALT-DESC;FMTTYPE=text/html:<span style="font-size:14px\;"><span style="font-family:verdana\;">Ambassadors will host a ribbon cutting celebrating Stephens College&#39\;s launch of Missouri Women Works Program.</span></span>
LOCATION:Stephens College Lela Raney Wood Hall 6 N. College Ave. Columbia MO 65215
UID:e.2790.11426
SEQUENCE:3
DTSTAMP:20260421T141053Z
URL:https://business.comochamber.com/events/details/ribbon-cutting-stephens-college-11426
END:VEVENT

END:VCALENDAR
