BEGIN:VCALENDAR
VERSION:2.0
PRODID:-//ChamberMaster//Event Calendar 2.0//EN
METHOD:PUBLISH
X-PUBLISHED-TTL:P3D
REFRESH-INTERVAL:P3D
CALSCALE:GREGORIAN
BEGIN:VEVENT
DTSTART:20240412T153000Z
DTEND:20240412T160000Z
X-MICROSOFT-CDO-ALLDAYEVENT:FALSE
SUMMARY:RIBBON CUTTING: Stephens College
DESCRIPTION:Ambassadors will host a ribbon cutting celebrating Stephens College's opening of The Center of Excellence for Veterans Success.
X-ALT-DESC;FMTTYPE=text/html:<span style="font-size:14px\;"><span style="font-family:verdana\;">Ambassadors will host a ribbon cutting celebrating Stephens College&#39\;s opening of The Center of Excellence for Veterans Success.</span></span>
LOCATION:Stephens College 1200 E Broadway Columbia MO 65215
UID:e.2790.11229
SEQUENCE:3
DTSTAMP:20260421T223010Z
URL:https://business.comochamber.com/events/details/ribbon-cutting-stephens-college-11229
END:VEVENT

END:VCALENDAR
