BEGIN:VCALENDAR
VERSION:2.0
PRODID:-//ChamberMaster//Event Calendar 2.0//EN
METHOD:PUBLISH
X-PUBLISHED-TTL:P3D
REFRESH-INTERVAL:P3D
CALSCALE:GREGORIAN
BEGIN:VEVENT
DTSTART:20230824T220000Z
DTEND:20230824T223000Z
X-MICROSOFT-CDO-ALLDAYEVENT:FALSE
SUMMARY:RIBBON CUTTING: Stephens College
DESCRIPTION:Ambassadors will host a ribbon cutting celebrating Stephens College's Founders Day and 190th Birthday.
X-ALT-DESC;FMTTYPE=text/html:<span style="font-size:14px\;"><span style="font-family:verdana\;">Ambassadors will host a ribbon cutting celebrating Stephens College&#39\;s Founders Day and 190th Birthday.</span></span>
LOCATION:Stephens College Kimball Ballroom\, -Lela Raney Wood Hall 6 North College Ave. Columbia MO 65215
UID:e.2790.11139
SEQUENCE:3
DTSTAMP:20260422T134631Z
URL:https://business.comochamber.com/events/details/ribbon-cutting-stephens-college-11139
END:VEVENT

END:VCALENDAR
