BEGIN:VCALENDAR
VERSION:2.0
PRODID:-//ChamberMaster//Event Calendar 2.0//EN
METHOD:PUBLISH
X-PUBLISHED-TTL:P3D
REFRESH-INTERVAL:P3D
CALSCALE:GREGORIAN
BEGIN:VEVENT
DTSTART:20240530T210000Z
DTEND:20240530T213000Z
X-MICROSOFT-CDO-ALLDAYEVENT:FALSE
SUMMARY:RIBBON CUTTING: Special Olympics Missouri
DESCRIPTION:Ambassadors will host a ribbon cutting celebrating Special Olympics Missouri's start of registration for State Summer Games.
X-ALT-DESC;FMTTYPE=text/html:<span style="font-size:14px\;"><span style="font-family:verdana\;">Ambassadors will host a ribbon cutting celebrating Special Olympics Missouri&#39\;s start of registration for State Summer Games.</span></span>
LOCATION:University of Missouri - Center Hall 402 Kentucky Blvd. Columbia MO 65211
UID:e.2790.11265
SEQUENCE:3
DTSTAMP:20260421T204713Z
URL:https://business.comochamber.com/events/details/ribbon-cutting-special-olympics-missouri-11265
END:VEVENT

END:VCALENDAR
