BEGIN:VCALENDAR
VERSION:2.0
PRODID:-//ChamberMaster//Event Calendar 2.0//EN
METHOD:PUBLISH
X-PUBLISHED-TTL:P3D
REFRESH-INTERVAL:P3D
CALSCALE:GREGORIAN
BEGIN:VEVENT
DTSTART:20241009T213000Z
DTEND:20241009T220000Z
X-MICROSOFT-CDO-ALLDAYEVENT:FALSE
SUMMARY:RIBBON CUTTING: Soundcheck Practice Studios
DESCRIPTION:The Ambassadors will perform a ribbon cutting to celebrate the the grand opening of Soundcheck Practice Studios.
X-ALT-DESC;FMTTYPE=text/html:The Ambassadors will perform a ribbon cutting to celebrate the the grand opening of Soundcheck Practice Studios.
LOCATION:Soundcheck Practice Studios 110 Orr St. Columbia\, MO 65201
UID:e.2790.11637
SEQUENCE:3
DTSTAMP:20260421T091703Z
URL:https://business.comochamber.com/events/details/ribbon-cutting-soundcheck-practice-studios-11637
END:VEVENT

END:VCALENDAR
