BEGIN:VCALENDAR
VERSION:2.0
PRODID:-//ChamberMaster//Event Calendar 2.0//EN
METHOD:PUBLISH
X-PUBLISHED-TTL:P3D
REFRESH-INTERVAL:P3D
CALSCALE:GREGORIAN
BEGIN:VEVENT
DTSTART:20250506T170000Z
DTEND:20250506T183000Z
X-MICROSOFT-CDO-ALLDAYEVENT:FALSE
SUMMARY:RIBBON CUTTING: Small Business of the Year Eclipse Catering Reception
DESCRIPTION:We're thrilled to announce that Eclipse Catering has been selected as a finalist for Small Business of the Year!   This is an incredible recognition of their hard work\, dedication\, and impact on our community.\n\nMore exciting details will be shared soon\, but we'd love to get a headcount for the celebration event. Please RSVP to secure your spot and show your support for our amazing finalists!\n\nStay tuned for more updates!
X-ALT-DESC;FMTTYPE=text/html:<p data-end="280" data-start="63">We&rsquo\;re thrilled to announce that <b>Eclipse Catering</b>&nbsp\;has been selected as a finalist for <em data-end="179" data-start="151">Small Business of the Year</em>! &#127881\; This is an incredible recognition of their hard work\, dedication\, and impact on our community.</p>\n\n<p data-end="467" data-start="282">More exciting details will be shared soon\, but we&rsquo\;d love to get a headcount for the celebration event. Please RSVP to secure your spot and show your support for our amazing finalists!</p>\n\n<p data-end="497" data-is-last-node="" data-is-only-node="" data-start="469">Stay tuned for more updates!</p>\n
LOCATION:The Atrium on Tenth 22 N 10th St. Columbia\, MO 65201
UID:e.2790.11990
SEQUENCE:3
DTSTAMP:20260420T233216Z
URL:https://business.comochamber.com/events/details/ribbon-cutting-small-business-of-the-year-eclipse-catering-reception-11990
END:VEVENT

END:VCALENDAR
