BEGIN:VCALENDAR
VERSION:2.0
PRODID:-//ChamberMaster//Event Calendar 2.0//EN
METHOD:PUBLISH
X-PUBLISHED-TTL:P3D
REFRESH-INTERVAL:P3D
CALSCALE:GREGORIAN
BEGIN:VEVENT
DTSTART:20230831T170000Z
DTEND:20230831T173000Z
X-MICROSOFT-CDO-ALLDAYEVENT:FALSE
SUMMARY:RIBBON CUTTING: Simple Solutions Fitness
DESCRIPTION:Ambassador will host a ribbon cutting celebrating Simple Solutions Fitness's new staff member and client appreciation.
X-ALT-DESC;FMTTYPE=text/html:<span style="font-size:14px\;"><span style="font-family:verdana\;">Ambassador will host a ribbon cutting celebrating Simple Solutions Fitness&#39\;s new staff member and client appreciation.</span></span>
LOCATION:Simple Solutions Fitness 3930 South Providence Rd. Ste. B Columbia MO 65203
UID:e.2790.11138
SEQUENCE:3
DTSTAMP:20260422T121945Z
URL:https://business.comochamber.com/events/details/ribbon-cutting-simple-solutions-fitness-11138
END:VEVENT

END:VCALENDAR
