BEGIN:VCALENDAR
VERSION:2.0
PRODID:-//ChamberMaster//Event Calendar 2.0//EN
METHOD:PUBLISH
X-PUBLISHED-TTL:P3D
REFRESH-INTERVAL:P3D
CALSCALE:GREGORIAN
BEGIN:VEVENT
DTSTART:20230929T160000Z
DTEND:20230929T164500Z
X-MICROSOFT-CDO-ALLDAYEVENT:FALSE
SUMMARY:RIBBON CUTTING: Show-Me Central Habitat for Humanity
DESCRIPTION:Ambassadors will host a ribbon cutting celebrating Show-Me Central Habitat for Humanity's Blitz Build Dedication.
X-ALT-DESC;FMTTYPE=text/html:<span style="font-size:14px\;"><span style="font-family:verdana\;">Ambassadors will host a ribbon cutting celebrating Show-Me Central Habitat for Humanity&#39\;s Blitz Build Dedication.</span></span>
LOCATION:Frist Baptist Church 3909 Brown Station Rd. Columbia MO 65202
UID:e.2790.11172
SEQUENCE:3
DTSTAMP:20260422T122055Z
URL:https://business.comochamber.com/events/details/ribbon-cutting-show-me-central-habitat-for-humanity-11172
END:VEVENT

END:VCALENDAR
