BEGIN:VCALENDAR
VERSION:2.0
PRODID:-//ChamberMaster//Event Calendar 2.0//EN
METHOD:PUBLISH
X-PUBLISHED-TTL:P3D
REFRESH-INTERVAL:P3D
CALSCALE:GREGORIAN
BEGIN:VEVENT
DTSTART:20250605T161500Z
DTEND:20250605T164500Z
X-MICROSOFT-CDO-ALLDAYEVENT:FALSE
SUMMARY:RIBBON CUTTING: Shelter Insurance Companies
DESCRIPTION:Ambassadors will conduct a ribbon cutting to celebrate the 50th Anniversary of Shelter Garden.
X-ALT-DESC;FMTTYPE=text/html:Ambassadors will conduct a ribbon cutting to celebrate the 50th Anniversary of Shelter Garden.&nbsp\;
LOCATION:1817 W Broadway Columbia\, MO 65218
UID:e.2790.11998
SEQUENCE:3
DTSTAMP:20260420T220133Z
URL:https://business.comochamber.com/events/details/ribbon-cutting-shelter-insurance-companies-11998
END:VEVENT

END:VCALENDAR
