BEGIN:VCALENDAR
VERSION:2.0
PRODID:-//ChamberMaster//Event Calendar 2.0//EN
METHOD:PUBLISH
X-PUBLISHED-TTL:P3D
REFRESH-INTERVAL:P3D
CALSCALE:GREGORIAN
BEGIN:VEVENT
DTSTART:20210624T163000Z
DTEND:20210624T170000Z
X-MICROSOFT-CDO-ALLDAYEVENT:FALSE
SUMMARY:RIBBON CUTTING: Shelter Insurance
DESCRIPTION:Ambassadors will host a ribbon cutting celebrating Shelter Insurance's New North Campus Facility at the Shelter Insurance Headquarters. \n\n\n\nTaking Place: At the North Campus Facility\, which is accessible off Ash Street or Broadway. We recommend parking in spaces around the building or the nearest available spots on the east side of the facility.
X-ALT-DESC;FMTTYPE=text/html:Ambassadors will host a ribbon cutting celebrating Shelter Insurance&#39\;s New North Campus Facility at the Shelter Insurance Headquarters.&nbsp\;<br />\n<br />\nTaking Place: At the North Campus Facility\, which is accessible off Ash Street or Broadway. We recommend parking in spaces around the building or the nearest available spots on the east side of the facility.
LOCATION:Shelter Insurance Headquarters 1817 W. Broadway Columbia MO 65218
UID:e.2790.8027
SEQUENCE:3
DTSTAMP:20260424T085341Z
URL:https://business.comochamber.com/events/details/ribbon-cutting-shelter-insurance-8027
END:VEVENT

END:VCALENDAR
