BEGIN:VCALENDAR
VERSION:2.0
PRODID:-//ChamberMaster//Event Calendar 2.0//EN
METHOD:PUBLISH
X-PUBLISHED-TTL:P3D
REFRESH-INTERVAL:P3D
CALSCALE:GREGORIAN
BEGIN:VEVENT
DTSTART:20250908T161500Z
DTEND:20250908T164500Z
X-MICROSOFT-CDO-ALLDAYEVENT:FALSE
SUMMARY:RIBBON CUTTING: Shelter Insurance
DESCRIPTION:The Ambassadors will perform a ribbon cutting to celebrate Shelter Insurance for being the #1 Customer Satisfaction for Auto Insurance in the Central Region.
X-ALT-DESC;FMTTYPE=text/html:<span style="font-family:aptos\,sans-serif\;"><span style="font-size:11.0pt\;">The Ambassadors will perform a ribbon cutting to celebrate Shelter Insurance for being the #1 Customer Satisfaction for Auto Insurance in the Central Region.</span></span>
LOCATION:Shelter Insurance 1817 W. Broadway\, Columbia\, MO 65218
UID:e.2790.12148
SEQUENCE:3
DTSTAMP:20260420T194028Z
URL:https://business.comochamber.com/events/details/ribbon-cutting-shelter-insurance-12148
END:VEVENT

END:VCALENDAR
