BEGIN:VCALENDAR
VERSION:2.0
PRODID:-//ChamberMaster//Event Calendar 2.0//EN
METHOD:PUBLISH
X-PUBLISHED-TTL:P3D
REFRESH-INTERVAL:P3D
CALSCALE:GREGORIAN
BEGIN:VEVENT
DTSTART:20240717T144500Z
DTEND:20240717T151500Z
X-MICROSOFT-CDO-ALLDAYEVENT:FALSE
SUMMARY:RIBBON CUTTING: Shelter Insurance
DESCRIPTION:Ambassadors will host a ribbon cutting celebrating Shelter Insurance's Torch Run for the Show Me State Games 40th Anniversary.
X-ALT-DESC;FMTTYPE=text/html:<span style="font-size:14px\;"><span style="font-family:verdana\;">Ambassadors will host a ribbon cutting celebrating Shelter Insurance&#39\;s Torch Run for the Show Me State Games 40th Anniversary.&nbsp\;</span></span>
LOCATION:Shelter Insurance - Main Office Campus 1817 W. Broadway Columbia MO 65218
UID:e.2790.11445
SEQUENCE:3
DTSTAMP:20260421T172734Z
URL:https://business.comochamber.com/events/details/ribbon-cutting-shelter-insurance-11445
END:VEVENT

END:VCALENDAR
