BEGIN:VCALENDAR
VERSION:2.0
PRODID:-//ChamberMaster//Event Calendar 2.0//EN
METHOD:PUBLISH
X-PUBLISHED-TTL:P3D
REFRESH-INTERVAL:P3D
CALSCALE:GREGORIAN
BEGIN:VEVENT
DTSTART:20230823T160000Z
DTEND:20230823T160000Z
X-MICROSOFT-CDO-ALLDAYEVENT:FALSE
SUMMARY:RIBBON CUTTING: Shelter Insurance
DESCRIPTION:Ambassadors will host a ribbon cutting ceremony celebrating Shelter Insurance's J.D. Power award for #1 Customer Satisfaction in Auto Insurance.
X-ALT-DESC;FMTTYPE=text/html:<span style="font-size:14px\;"><span style="font-family:verdana\;">Ambassadors will host a ribbon cutting ceremony celebrating Shelter Insurance&#39\;s J.D. Power award for #1 Customer Satisfaction in Auto Insurance.</span></span>
LOCATION:Shelter Insurance 1817 W. Broadway Columbia MO 65218
UID:e.2790.11134
SEQUENCE:3
DTSTAMP:20260422T121733Z
URL:https://business.comochamber.com/events/details/ribbon-cutting-shelter-insurance-11134
END:VEVENT

END:VCALENDAR
