BEGIN:VCALENDAR
VERSION:2.0
PRODID:-//ChamberMaster//Event Calendar 2.0//EN
METHOD:PUBLISH
X-PUBLISHED-TTL:P3D
REFRESH-INTERVAL:P3D
CALSCALE:GREGORIAN
BEGIN:VEVENT
DTSTART:20240830T041500Z
DTEND:20240830T044500Z
X-MICROSOFT-CDO-ALLDAYEVENT:FALSE
SUMMARY:RIBBON CUTTING: Shelter Insurace
DESCRIPTION:Ambassadors will host a ribbon cutting celebrating Shelter Insurance's J.D. Power award presentation for their sixth national award.
X-ALT-DESC;FMTTYPE=text/html:<span style="font-size:14px\;"><span style="font-family:verdana\;">Ambassadors will host a ribbon cutting celebrating Shelter Insurance&#39\;s J.D. Power award presentation for their sixth national award.</span></span>
LOCATION:Shelter Insurance - Main Office 1817 W. Broadway Columbia MO 65218
UID:e.2790.11463
SEQUENCE:3
DTSTAMP:20260421T122431Z
URL:https://business.comochamber.com/events/details/ribbon-cutting-shelter-insurace-11463
END:VEVENT

END:VCALENDAR
