BEGIN:VCALENDAR
VERSION:2.0
PRODID:-//ChamberMaster//Event Calendar 2.0//EN
METHOD:PUBLISH
X-PUBLISHED-TTL:P3D
REFRESH-INTERVAL:P3D
CALSCALE:GREGORIAN
BEGIN:VEVENT
DTSTART:20240430T213000Z
DTEND:20240430T220000Z
X-MICROSOFT-CDO-ALLDAYEVENT:FALSE
SUMMARY:RIBBON CUTTING: Services for Independent Living
DESCRIPTION:Ambassadors will host a ribbon cutting celebrating Services for Independent Living's Grand Re-Opening at their new location.
X-ALT-DESC;FMTTYPE=text/html:<span style="font-size:14px\;"><span style="font-family:verdana\;">Ambassadors will host a ribbon cutting celebrating Services for Independent Living&#39\;s Grand Re-Opening at their new location.</span></span>
LOCATION:Services for Independent Living 1905 W. Ash Street. Columbia MO 65203
UID:e.2790.11231
SEQUENCE:3
DTSTAMP:20260421T235612Z
URL:https://business.comochamber.com/events/details/ribbon-cutting-services-for-independent-living-11231
END:VEVENT

END:VCALENDAR
