BEGIN:VCALENDAR
VERSION:2.0
PRODID:-//ChamberMaster//Event Calendar 2.0//EN
METHOD:PUBLISH
X-PUBLISHED-TTL:P3D
REFRESH-INTERVAL:P3D
CALSCALE:GREGORIAN
BEGIN:VEVENT
DTSTART:20240913T170000Z
DTEND:20240913T173000Z
X-MICROSOFT-CDO-ALLDAYEVENT:FALSE
SUMMARY:RIBBON CUTTING: Services for Independant Living
DESCRIPTION:The Ambassadors will perform a ribbon cutting at the MU Health Care Pavilion on behalf of Services for Independent Living's Active and Aging Health and Resource Fair.
X-ALT-DESC;FMTTYPE=text/html:The Ambassadors will perform a ribbon cutting at the MU Health Care Pavilion on behalf of Services for Independent Living&#39\;s Active and Aging Health and Resource Fair.
LOCATION:MU Health Care Pavilion 1701 W. Ash St. Columbia\, MO 65203
UID:e.2790.11635
SEQUENCE:3
DTSTAMP:20260421T104926Z
URL:https://business.comochamber.com/events/details/ribbon-cutting-services-for-independant-living-11635
END:VEVENT

END:VCALENDAR
